BEGIN:VCALENDAR
VERSION:2.0
PRODID:-//Cub Scout Pack 472 Tempe - ECPv6.15.19//NONSGML v1.0//EN
CALSCALE:GREGORIAN
METHOD:PUBLISH
X-ORIGINAL-URL:https://cspack472tempe.com
X-WR-CALDESC:Events for Cub Scout Pack 472 Tempe
REFRESH-INTERVAL;VALUE=DURATION:PT1H
X-Robots-Tag:noindex
X-PUBLISHED-TTL:PT1H
BEGIN:VTIMEZONE
TZID:America/Phoenix
BEGIN:STANDARD
TZOFFSETFROM:-0700
TZOFFSETTO:-0700
TZNAME:MST
DTSTART:20220101T000000
END:STANDARD
END:VTIMEZONE
BEGIN:VEVENT
DTSTART;TZID=America/Phoenix:20251108T130000
DTEND;TZID=America/Phoenix:20251108T150000
DTSTAMP:20260419T061102
CREATED:20250812T230400Z
LAST-MODIFIED:20251020T024041Z
UID:1864-1762606800-1762614000@cspack472tempe.com
SUMMARY:Rocket Derby
DESCRIPTION:32 1 – Launch!    Join us for the 2025 Rocket Derby. \nThe sky’s the limit at Desert Foothills Park as we launch our customized model rockets.   Awards for design\, lots of “ooohs and ahhhs” and good stories to tell after! \nSave the date 11/8 @ Desert Foothills Park 1010 E Marketplace Wy SW\, Phoenix\, AZ. Flight time is 1:00 pm – 3:00 pm. Arrive early and be sure to bring sunscreen\, chairs\, shade\, and don’t forget your rockets. Scouts should wear Class B Uniforms (t-shirt) and closed-toed shoes. Guests are welcome (but please leave pets at home as this can be scary for our 4 legged friends) More details to come as we get closer. \n  \n  \n 
URL:https://cspack472tempe.com/event/rocket-derby/
LOCATION:Desert Foothills Park\, 1010 E Marketplace Wy SW\, Phoenix\, AZ\, 85048\, United States
CATEGORIES:Pack 472 Events
ATTACH;FMTTYPE=image/jpeg:https://eadn-wc04-8807523.nxedge.io/wp-content/uploads/2020/11/rocket-derby04.jpg
END:VEVENT
BEGIN:VEVENT
DTSTART;TZID=America/Phoenix:20251030T180000
DTEND;TZID=America/Phoenix:20251030T190000
DTSTAMP:20260419T061102
CREATED:20250812T224715Z
LAST-MODIFIED:20251020T023747Z
UID:1863-1761847200-1761850800@cspack472tempe.com
SUMMARY:October Den Meetings
DESCRIPTION:Our October Den meetings will be on Thursday 10/30 at the Desert Breeze Ramadas. (Webelos will meet on 10/28). We’ll be distributing and building our rockets for the Rocket Derby. We’ll make sure they’re “airworthy” and then invite the Scouts to decorate them for Launch day.
URL:https://cspack472tempe.com/event/october-den-meetings/
LOCATION:Desert Breeze Park Ramadas\, 427 N Desert Breeze Pkwy\, Chandler\, AZ\, 85226\, United States
CATEGORIES:Pack 472 Events
ATTACH;FMTTYPE=image/jpeg:https://eadn-wc04-8807523.nxedge.io/wp-content/uploads/2022/07/20220830-pack-002_web.jpg
END:VEVENT
BEGIN:VEVENT
DTSTART;TZID=America/Phoenix:20251025T090000
DTEND;TZID=America/Phoenix:20251025T110000
DTSTAMP:20260419T061102
CREATED:20250812T224309Z
LAST-MODIFIED:20251020T022528Z
UID:1862-1761382800-1761390000@cspack472tempe.com
SUMMARY:Fall Hike & Pack Meeting
DESCRIPTION:Come join Pack 472 on our Fall Hike!   We’ll be meeting at the Pima Canyon Trailhead. Our older Scouts will hike the Pima Wash Trail to West Loop. This is an easy trail according to All Trails @ 2.7 miles. Expect 1 to 1.5 hours to complete the hike. We’ll have a shorter hike for the younger Scouts with all the adventure and a little less distance. \nPlease meet at the Pima Canyon Trailhead and be ready to start the hike @ 9 am sharp to beat the heat. Parking can be a challenge so we suggest arriving at or around 8:30 am. Wear good hiking shoes and don’t forget your 6 essentials – (Filled Water Bottle\, Small first aid kit\, Whistle\, Flashlight\, Sun Protection\, Trail Mix)
URL:https://cspack472tempe.com/event/fall-hike-pack-meeting/
LOCATION:Pima Canyon Trailhead\, 4500 E Pima Canyon Rd\,\, Phoenix\, 85044\, United States
CATEGORIES:Pack 472 Events
ATTACH;FMTTYPE=image/jpeg:https://eadn-wc04-8807523.nxedge.io/wp-content/uploads/2023/08/hike-roosevelt.jpg
END:VEVENT
BEGIN:VEVENT
DTSTART;TZID=America/Phoenix:20250925T180000
DTEND;TZID=America/Phoenix:20250925T190000
DTSTAMP:20260419T061102
CREATED:20250812T223726Z
LAST-MODIFIED:20250812T223804Z
UID:1861-1758823200-1758826800@cspack472tempe.com
SUMMARY:September Den Meetings
DESCRIPTION:Monthly Den Meetings.    Join us at the Desert Breeze Park Ramadas for Den Adventures! \n 
URL:https://cspack472tempe.com/event/september-den-meetings/
LOCATION:Desert Breeze Park Ramadas\, 427 N Desert Breeze Pkwy\, Chandler\, AZ\, 85226\, United States
CATEGORIES:Pack 472 Events
ATTACH;FMTTYPE=image/jpeg:https://eadn-wc04-8807523.nxedge.io/wp-content/uploads/2022/07/20220830-pack-002_web.jpg
END:VEVENT
BEGIN:VEVENT
DTSTART;TZID=America/Phoenix:20250919T170000
DTEND;TZID=America/Phoenix:20250921T100000
DTSTAMP:20260419T061102
CREATED:20250812T214400Z
LAST-MODIFIED:20250812T214400Z
UID:1860-1758301200-1758448800@cspack472tempe.com
SUMMARY:Fall Campout to Elks Group Campground
DESCRIPTION:Let’s go camping! \nWe’ll be heading to Elks Group Campground (near Happy Jack). \nCheck your email! More info including the registration link will be sent soon. This event is open to Pack 472 families only.
URL:https://cspack472tempe.com/event/fall-campout-to-elks-group-campground/
LOCATION:Elks Group Campsite\, Forest Service Rd 9717H\, Happy Jack\, Arizona
CATEGORIES:Pack 472 Events
ATTACH;FMTTYPE=image/webp:https://eadn-wc04-8807523.nxedge.io/wp-content/uploads/2025/08/Elks-Group.webp
END:VEVENT
BEGIN:VEVENT
DTSTART;TZID=America/Phoenix:20250911T180000
DTEND;TZID=America/Phoenix:20250911T190000
DTSTAMP:20260419T061102
CREATED:20250805T225914Z
LAST-MODIFIED:20250805T225957Z
UID:1859-1757613600-1757617200@cspack472tempe.com
SUMMARY:September Pack 472 Meeting
DESCRIPTION:Join us for our September Pack Meeting and a special Patriot Day flag ceremomy. \nTroop 172 will be joining us to share the journey from Cub to Scout to Eagle.
URL:https://cspack472tempe.com/event/pack-472-meeting/
LOCATION:Kyrene de la Mariposa MPR\, 50 E Knox Rd\, Tempe\, AZ\, 85284\, United States
CATEGORIES:Pack 472 Events
ATTACH;FMTTYPE=image/jpeg:https://eadn-wc04-8807523.nxedge.io/wp-content/uploads/2022/07/mariposa-pack-mpr_web.jpg
END:VEVENT
BEGIN:VEVENT
DTSTART;TZID=America/Phoenix:20250828T180000
DTEND;TZID=America/Phoenix:20250828T190000
DTSTAMP:20260419T061102
CREATED:20250805T225053Z
LAST-MODIFIED:20250820T023942Z
UID:1858-1756404000-1756407600@cspack472tempe.com
SUMMARY:August Den Meetings
DESCRIPTION:Join us for fun and adventures!. \nPlease Note: The Webelos den (4th Grade) will meet on Tuesdays of the same week.  \n(The August Webelos meeting is 8/26 at the same location.)
URL:https://cspack472tempe.com/event/den-meetings/
LOCATION:Desert Breeze Park Ramadas\, 427 N Desert Breeze Pkwy\, Chandler\, AZ\, 85226\, United States
CATEGORIES:Pack 472 Events
ATTACH;FMTTYPE=image/jpeg:https://eadn-wc04-8807523.nxedge.io/wp-content/uploads/2022/07/20220830-pack-002_web.jpg
END:VEVENT
BEGIN:VEVENT
DTSTART;TZID=America/Phoenix:20250821T180000
DTEND;TZID=America/Phoenix:20250821T190000
DTSTAMP:20260419T061102
CREATED:20250802T231310Z
LAST-MODIFIED:20250805T224624Z
UID:1834-1755799200-1755802800@cspack472tempe.com
SUMMARY:August Pack Meeting
DESCRIPTION:We hope everyone had a great summer and are getting into the swing of things with school/activities. This will be our first Pack meeting of the 25/26 scouting year. We’ll share the plans for the coming year and welcome new scouts to the pack! We’ll have some fun activities for everyone! \nJoin us in the Mariposa MPR where it’s nice and cool!. \nGuests\, as always\, are welcome to visit us – see if Pack 472 is the right fit for your family. Please let us know you’re coming. \nUniform:\nReturning Scouts – Class A\nNew Scouts – Come as you are!
URL:https://cspack472tempe.com/event/august-2025-pack-meeting/
LOCATION:Kyrene de la Mariposa MPR\, 50 E Knox Rd\, Tempe\, AZ\, 85284\, United States
CATEGORIES:Pack 472 Events
ATTACH;FMTTYPE=image/jpeg:https://eadn-wc04-8807523.nxedge.io/wp-content/uploads/2022/07/mariposa-pack-mpr_web.jpg
END:VEVENT
BEGIN:VEVENT
DTSTART;TZID=America/Phoenix:20250809T111500
DTEND;TZID=America/Phoenix:20250809T140000
DTSTAMP:20260419T061102
CREATED:20250723T045247Z
LAST-MODIFIED:20250730T212102Z
UID:1810-1754738100-1754748000@cspack472tempe.com
SUMMARY:Cub Scout Pack 472 Back to Pack Event
DESCRIPTION:Join us to kick off the 25/26 Scouting year!\n\nReturning Scouts and anyone considering Scouting are welcome.\nActivities Include:\n\nPizza and picnic at the Lion’s Pavilion\nArrowhead Park Pool. (We’ll pay your entry fee.)\nAnd more…\n\nRSVP here: https://forms.gle/cpp4Br87AkVf7nGK9\nLocation\nYou’ll find us at the Arrowhead Lions Pavilion inside the Arrowhead Meadows Park. \nPizza and water will be provided\nExisting families can bring a side if you like – completely optional. \nVisitors\nHave fun and learn about Scouting with Pack 472. \nPlease bring your bathing suit\, a towel and plenty of sunscreen. \nNOTE: This event is open to families with Cub Scout-aged children and/or siblings. Cub Scouts range from Kindergarten to 5th grade (boys and girls). Older and younger siblings are welcome to join as well. Parents must accompany their children.
URL:https://cspack472tempe.com/event/cub-scout-pack-472-back-to-pack-event-2/
LOCATION:Arrowhead Lions Pavilion\, 1475 W Erie St\, Chandler\, AZ\, 85224\, United States
CATEGORIES:Pack 472 Events
ATTACH;FMTTYPE=image/jpeg:https://eadn-wc04-8807523.nxedge.io/wp-content/uploads/2025/07/arrowhead_pool.jpg
END:VEVENT
BEGIN:VEVENT
DTSTART;TZID=America/Phoenix:20250417T180000
DTEND;TZID=America/Phoenix:20250417T190000
DTSTAMP:20260419T061102
CREATED:20240130T205017Z
LAST-MODIFIED:20250208T161448Z
UID:1665-1744912800-1744916400@cspack472tempe.com
SUMMARY:April Pack Meeting
DESCRIPTION:Save the Date. \nUniform: Class A\nWhat to Bring: Camp chairs (we’ll be in the Scout Area – no seating)\nAgenda: TBD
URL:https://cspack472tempe.com/event/april-pack-meeting-2025/
LOCATION:Boy Scout Outdoor Skills Area\, 427 N Desert Breeze Blvd W\, Chandler\, AZ\, 85226\, United States
CATEGORIES:Pack 472 Events
ATTACH;FMTTYPE=image/jpeg:https://eadn-wc04-8807523.nxedge.io/wp-content/uploads/2022/07/20220830-pack-001_web.jpg
END:VEVENT
BEGIN:VEVENT
DTSTART;TZID=America/Phoenix:20250327T180000
DTEND;TZID=America/Phoenix:20250327T190000
DTSTAMP:20260419T061102
CREATED:20220725T035911Z
LAST-MODIFIED:20250208T161446Z
UID:1178-1743098400-1743102000@cspack472tempe.com
SUMMARY:March Pack Meeting
DESCRIPTION:Kyrene’s Spring Break schedule requires us to bump our March Pack Meeting back a week. \nUniform: Class A\nWhat to Bring: Camp chairs (we’ll be in the Scout Area – no seating)\nAgenda: TBD
URL:https://cspack472tempe.com/event/march-pack-meeting-2025/
LOCATION:Boy Scout Outdoor Skills Area\, 427 N Desert Breeze Blvd W\, Chandler\, AZ\, 85226\, United States
CATEGORIES:Pack 472 Events
ATTACH;FMTTYPE=image/jpeg:https://eadn-wc04-8807523.nxedge.io/wp-content/uploads/2022/07/20220830-pack-002_web.jpg
END:VEVENT
BEGIN:VEVENT
DTSTART;TZID=America/Phoenix:20250222T113000
DTEND;TZID=America/Phoenix:20250222T150000
DTSTAMP:20260419T061102
CREATED:20220727T235039Z
LAST-MODIFIED:20250109T232146Z
UID:1231-1740223800-1740236400@cspack472tempe.com
SUMMARY:Pinewood Derby
DESCRIPTION:Start your engines!\nThe Pack 472 Pinewood Derby is coming here!\nSaturday\, February 22nd at the Mariposa Elementary MPR. \nHere’s the plan \nFriday\, February 21st (5-7pm)\nStop by Cubmaster Phil’s house house anytime between 5 and 7pm to have your car checked in (address available in Scoubook). We’ll be measuring\, weighing\, etc. and will have limited tools available should you need to make any alterations (see Official Rules below). \nSaturday\, February 22nd \n\n11am: Setup\nNoon: Race!!!\n2:00pm: Awards\n2:30pm: Tear down\n\nDon’t forget to bring some cash for refreshments at the pit stop snack shop! \nYou will receive your Pinewood Derby kits at the January Pack Meeting. If you were unable to attend\, please contact your Den Leader as soon as possible so you have enough time to get your car race ready. \nPlease follow the Official Rules included in the BSA Pinewood Derby Kit for the build (also available online – https://www.scoutshop.org/pwd-rules). \nAwards will be given for the three fastest cars\, the slowest car (that still crosses the finish line) and best design/decoration. While we won’t all go home with a trophy\, we will all have fun. This is the perfect event to remind our Scouts about sportsmanship. \nThis is a family event and everyone is welcome. The main race will be for the Scouts\, but as mentioned above\, we’ll have time after the main event for siblings and others to race for fun. So\, if you built or have an extra car\, bring it. \nSee you on race day!
URL:https://cspack472tempe.com/event/pinewood-derby-2025/
LOCATION:Kyrene de la Mariposa MPR\, 50 E Knox Rd\, Tempe\, AZ\, 85284\, United States
CATEGORIES:Pack 472 Events
ATTACH;FMTTYPE=image/jpeg:https://eadn-wc04-8807523.nxedge.io/wp-content/uploads/2020/11/pinewood-derby-boy-scouts-scouts-736434.jpg
END:VEVENT
BEGIN:VEVENT
DTSTART;TZID=America/Phoenix:20250123T180000
DTEND;TZID=America/Phoenix:20250123T190000
DTSTAMP:20260419T061102
CREATED:20220725T035602Z
LAST-MODIFIED:20250108T143622Z
UID:1174-1737655200-1737658800@cspack472tempe.com
SUMMARY:January Pack Meeting
DESCRIPTION:NOTE: We’ll be at the Desert Breeze Ramadas – Acacia Pavilion. \nYou don’t want to miss our January Pack meeting. We will be recognizing Scouts achievements and handing out awards. We will also be distributing Pinewood Derby Cars for our race in February. \n\nUniform: Class A\nSeating: You may want to bring your own chairs. It can a little tight.\nWeather: Could be chilly (you never know). Please come prepared.
URL:https://cspack472tempe.com/event/january-pack-meeting-2025/
LOCATION:Desert Breeze Park Ramadas\, 427 N Desert Breeze Pkwy\, Chandler\, AZ\, 85226\, United States
CATEGORIES:Pack 472 Events
ATTACH;FMTTYPE=image/jpeg:https://eadn-wc04-8807523.nxedge.io/wp-content/uploads/2022/07/20220830-pack-001_web.jpg
END:VEVENT
BEGIN:VEVENT
DTSTART;TZID=America/Phoenix:20241209T180000
DTEND;TZID=America/Phoenix:20241209T193000
DTSTAMP:20260419T061102
CREATED:20241114T171335Z
LAST-MODIFIED:20241114T171356Z
UID:1762-1733767200-1733772600@cspack472tempe.com
SUMMARY:Service Project: Sandwich Building Night
DESCRIPTION:Please join us for an evening of volunteer service with Pack 472 and Troop 172. \nThis will take the place of our Pack meeting. We will be making peanut butter and jelly sandwiches\, snack packs\, and creating gifts for the less fortunate. \nPlease help us out with food donations\, supplies\, and your time.
URL:https://cspack472tempe.com/event/service-sandwich-building-2024/
LOCATION:Kyrene de la Mariposa MPR\, 50 E Knox Rd\, Tempe\, AZ\, 85284\, United States
CATEGORIES:Pack 472 Events
ATTACH;FMTTYPE=image/jpeg:https://eadn-wc04-8807523.nxedge.io/wp-content/uploads/2022/07/service-pb_j.jpg
END:VEVENT
BEGIN:VEVENT
DTSTART;TZID=America/Phoenix:20241121T180000
DTEND;TZID=America/Phoenix:20241121T190000
DTSTAMP:20260419T061102
CREATED:20220725T035358Z
LAST-MODIFIED:20241115T023220Z
UID:1170-1732212000-1732215600@cspack472tempe.com
SUMMARY:November Pack Meeting
DESCRIPTION:NOTE: We’re moving to the Desert Breeze Ramadas – Acacia Pavilion. \nOur scouts have been busy – we have a lot of achievements to recognize and award.  We’ll also be holding our Annual Cake Walk. The Cake Walk is a fun event and a chance for you to get creative with your scout! \nCake Walk Details\nWhat do Parents Need to do?\nSpend time with your scout planning\, baking and decorating a cake/cupcakes. Or\, keep it simple and find something that you like at the store. \nGive your treat a name and bring it to the pack meeting sealed in a cake box or some type of container that you do not need to get back. \nHow does the Cake Walk work?\nWhen you arrive at the meeting\, your cake will be checked in and placed on display. After we wrap up announcements and achievements\, we’ll start the cake walk. \nThe winner of each round will get to choose a cake from the display table to take home. If you bring a cake\, you will go home with a cake! If you have more than one scout in the troop (or if siblings want to participate) each participant must bring their own cake to the event. \nWe will also be recognizing a few outstanding cakes with special awards\, so get creative! \n\nMost Appetizing\nMost Unique\nBest in Show\n\nRegarding dietary restrictions\, allergies\, etc. If you have any concerns\, please email us. We’ll do our best to match accommodations to ensure everyone has an opportunity to bring something home.
URL:https://cspack472tempe.com/event/november-pack-meeting-2024/
LOCATION:Desert Breeze Park Ramadas\, 427 N Desert Breeze Pkwy\, Chandler\, AZ\, 85226\, United States
CATEGORIES:Pack 472 Events
ATTACH;FMTTYPE=image/jpeg:https://eadn-wc04-8807523.nxedge.io/wp-content/uploads/2022/07/20220830-pack-001_web.jpg
END:VEVENT
BEGIN:VEVENT
DTSTART;TZID=America/Phoenix:20241102T130000
DTEND;TZID=America/Phoenix:20241102T150000
DTSTAMP:20260419T061102
CREATED:20220727T234908Z
LAST-MODIFIED:20241004T144838Z
UID:1229-1730552400-1730559600@cspack472tempe.com
SUMMARY:Rocket Derby
DESCRIPTION:Five\, Four\, Three\, Two\, One… Blast Off. Let’s go fly a rocket! Guests\, as always\, are welcome to visit us – see if Pack 472 is the right fit for your family. \nThe 2024 Pack 472 Rocket Derby will be on Saturday 11/2 starting at 12:00pm (for Set-Up / Prep volunteers) and 1:00pm for everyone else. It will be held at Desert Foothills Park\, Southwest corner of Chandler Blvd & Desert Foothills Pkwy. \nScouts should wear Class B Uniforms (t-shirt) and closed-toed shoes. This is an outdoor event so wear sunscreen and bring camping chairs or other comfortable folding chairs. If you have a shade tent/pop-up\, you might want to bring that too. \nWhile we are at a park\, this is not a pet friendly event. \nThis is a family event\, so bring the whole family! It is so much fun to watch all the kids chase down the rockets. \nRSVP on Scoutbook (login to https://scoutbook.scouting.org before clicking this link): https://advancements.scouting.org/calendar/event/5928956
URL:https://cspack472tempe.com/event/rocket-derby-2024/
LOCATION:Desert Foothills Park\, 1010 E Marketplace Wy SW\, Phoenix\, AZ\, 85048\, United States
CATEGORIES:Pack 472 Events
ATTACH;FMTTYPE=image/png:https://eadn-wc04-8807523.nxedge.io/wp-content/uploads/2022/07/Lift-off.png
END:VEVENT
BEGIN:VEVENT
DTSTART;TZID=America/Phoenix:20241026T090000
DTEND;TZID=America/Phoenix:20241026T110000
DTSTAMP:20260419T061102
CREATED:20230825T150502Z
LAST-MODIFIED:20241021T235433Z
UID:1633-1729933200-1729940400@cspack472tempe.com
SUMMARY:Fall Hike
DESCRIPTION:Come join the Pack 472 hike! Don’t forget your six essentials (Water\, food\, flashlight\, sun protection\, whistle\, first-aid kit).
URL:https://cspack472tempe.com/event/fall-hike/
LOCATION:Pima Canyon Trailhead\, 4500 E Pima Canyon Rd\, Phoenix\, AZ\, 85044\, United States
CATEGORIES:Pack 472 Events
ATTACH;FMTTYPE=image/jpeg:https://eadn-wc04-8807523.nxedge.io/wp-content/uploads/2023/08/hike-roosevelt.jpg
END:VEVENT
BEGIN:VEVENT
DTSTART;TZID=America/Phoenix:20240919T180000
DTEND;TZID=America/Phoenix:20240919T190000
DTSTAMP:20260419T061102
CREATED:20220725T035206Z
LAST-MODIFIED:20240909T215955Z
UID:1166-1726768800-1726772400@cspack472tempe.com
SUMMARY:September Pack Meeting
DESCRIPTION:At our second Pack meeting of the 24/25 scouting year. We’ll share our favorite stories from the campout and start planning ahead for the Rocket Derby\, Fall Hike and other fun events.
URL:https://cspack472tempe.com/event/september-pack-meeting-2023/
LOCATION:Kyrene de la Mariposa MPR\, 50 E Knox Rd\, Tempe\, AZ\, 85284\, United States
CATEGORIES:Pack 472 Events
ATTACH;FMTTYPE=image/jpeg:https://eadn-wc04-8807523.nxedge.io/wp-content/uploads/2022/07/20220830-pack-002_web.jpg
END:VEVENT
BEGIN:VEVENT
DTSTART;TZID=America/Phoenix:20240913T140000
DTEND;TZID=America/Phoenix:20240915T110000
DTSTAMP:20260419T061102
CREATED:20220725T042208Z
LAST-MODIFIED:20240713T164541Z
UID:1195-1726236000-1726398000@cspack472tempe.com
SUMMARY:Fall Campout - Camp Verde
DESCRIPTION:Let’s go camping! We’ll be heading to the Camp Verde area (near Lake Montezuma). Check your email! More info including the registration link will be sent soon. This event is open to Pack 472 families only.
URL:https://cspack472tempe.com/event/fall-campout-2024/
LOCATION:AZ
CATEGORIES:Pack 472 Events
ATTACH;FMTTYPE=image/jpeg:https://eadn-wc04-8807523.nxedge.io/wp-content/uploads/2020/11/camping-fire.jpg
END:VEVENT
BEGIN:VEVENT
DTSTART;TZID=America/Phoenix:20240815T180000
DTEND;TZID=America/Phoenix:20240815T190000
DTSTAMP:20260419T061102
CREATED:20230721T180003Z
LAST-MODIFIED:20240804T171042Z
UID:1164-1723744800-1723748400@cspack472tempe.com
SUMMARY:August Pack Meeting
DESCRIPTION:We hope everyone had a great summer and are getting into the swing of things with school/activities. This will be our first Pack meeting of the 24/25 scouting year. We’ll have a special presentation on the Journey of Scouting (Fun from Cubs > Scouts > Eagle). We’ll be nice and cool in the Mariposa MPR. \nGuests\, as always\, are welcome to visit us – see if Pack 472 is the right fit for your family. Please let us know you’re coming.
URL:https://cspack472tempe.com/event/august-pack-meeting-2024/
LOCATION:Kyrene de la Mariposa MPR\, 50 E Knox Rd\, Tempe\, AZ\, 85284\, United States
CATEGORIES:Pack 472 Events
ATTACH;FMTTYPE=image/jpeg:https://eadn-wc04-8807523.nxedge.io/wp-content/uploads/2022/07/mariposa-pack-mpr_web.jpg
END:VEVENT
BEGIN:VEVENT
DTSTART;TZID=America/Phoenix:20240803T110000
DTEND;TZID=America/Phoenix:20240803T140000
DTSTAMP:20260419T061102
CREATED:20240612T003010Z
LAST-MODIFIED:20240724T193520Z
UID:1685-1722682800-1722693600@cspack472tempe.com
SUMMARY:Cub Scout Pack 472 Back to Pack Event
DESCRIPTION:Join us to kick off the 24/25 Scouting year!\nReturning Scouts and anyone considering Scouting are welcome.\nActivities Include:\n\nWater relay.\nArrowhead Park Pool. We’ll pay your entry fee.\nAnd more…\n\nRSVP here: https://forms.gle/cpp4Br87AkVf7nGK9\nLocation\nYou’ll find us at the Arrowhead Lions Pavilion inside the Arrowhead Meadows Park. \nPizza and water will be provided\nExisting families can bring a side if you like – completely optional. \nVisitors\nHave fun and learn about Scouting with Pack 472. \nPlease bring your bathing suit\, a towel and plenty of sunscreen. \nNOTE: This event is open to families with Cub Scout-aged children and/or siblings. Cub Scouts range from Kindergarten to 5th grade (boys and girls). Older and younger siblings are welcome to join as well. Parents must accompany their children.
URL:https://cspack472tempe.com/event/2024-back-to-pack/
LOCATION:Arrowhead Lions Pavilion\, 1475 W Erie St\, Chandler\, AZ\, 85224\, United States
CATEGORIES:Pack 472 Events
ATTACH;FMTTYPE=image/jpeg:https://eadn-wc04-8807523.nxedge.io/wp-content/uploads/2023/07/arrowhead-pool_web.jpg
END:VEVENT
BEGIN:VEVENT
DTSTART;TZID=America/Phoenix:20231119T090000
DTEND;TZID=America/Phoenix:20231119T110000
DTSTAMP:20260419T061102
CREATED:20231030T165518Z
LAST-MODIFIED:20231030T165518Z
UID:1648-1700384400-1700391600@cspack472tempe.com
SUMMARY:Fall Hike (make up) - Pima Canyon Trailhead
DESCRIPTION:Come join the Pack 472 hike! Don’t forget your six essentials (Water\, food\, flashlight\, sun protection\, whistle\, first-aid kit). We will most likely be doing an “out and back” with possibly different length hikes based on Scouts’ ability.
URL:https://cspack472tempe.com/event/fall-hike-pima-canyon-trailhead-2/
LOCATION:Pima Canyon Trailhead\, 4500 E Pima Canyon Rd\, Phoenix\, AZ\, 85044\, United States
CATEGORIES:Pack 472 Events
ATTACH;FMTTYPE=image/jpeg:https://eadn-wc04-8807523.nxedge.io/wp-content/uploads/2023/08/hike-roosevelt.jpg
END:VEVENT
BEGIN:VEVENT
DTSTART;TZID=America/Phoenix:20231026T180000
DTEND;TZID=America/Phoenix:20231026T190000
DTSTAMP:20260419T061102
CREATED:20220725T035315Z
LAST-MODIFIED:20231013T203218Z
UID:1168-1698343200-1698346800@cspack472tempe.com
SUMMARY:October Pack Meeting
DESCRIPTION:Save the date – more info coming soon.
URL:https://cspack472tempe.com/event/october-pack-meeting-2022/
LOCATION:Kyrene de la Mariposa MPR\, 50 E Knox Rd\, Tempe\, AZ\, 85284\, United States
CATEGORIES:Pack 472 Events
ATTACH;FMTTYPE=image/jpeg:https://eadn-wc04-8807523.nxedge.io/wp-content/uploads/2022/07/20220830-pack-003_web.jpg
END:VEVENT
BEGIN:VEVENT
DTSTART;TZID=America/Phoenix:20230812T110000
DTEND;TZID=America/Phoenix:20230812T140000
DTSTAMP:20260419T061102
CREATED:20230721T185042Z
LAST-MODIFIED:20230802T130857Z
UID:1582-1691838000-1691848800@cspack472tempe.com
SUMMARY:Cub Scout Pack 472 Back to Pack Event
DESCRIPTION:Join us to kick off the 23/24 Scouting year!\nReturning Scouts and anyone considering Scouting is welcome!\nActivities Include:\n\nWater relay.\nArrowhead Park Pool. We’ll pay your entry fee.\nAnd more…\n\nPizza and water will be provided\nExisting families can bring a side if you like – completely optional. \nVisitors\nHave fun and learn about Scouting and Pack 472. \nPlease bring your bathing suit\, a towel and plenty of sunscreen. \nNOTE: This even is open to families with Cub Scout-aged children and/or siblings. Cub Scouts range from Kindergarten to 5th grade (boys and girls). Older and younger siblings are welcome to join as well.
URL:https://cspack472tempe.com/event/cub-scout-pack-472-back-to-pack-event/
LOCATION:Arrowhead Lions Pavilion\, 1475 W Erie St\, Chandler\, AZ\, 85224\, United States
CATEGORIES:Pack 472 Events
ATTACH;FMTTYPE=image/jpeg:https://eadn-wc04-8807523.nxedge.io/wp-content/uploads/2023/07/arrowhead-pool_web.jpg
END:VEVENT
END:VCALENDAR