BEGIN:VCALENDAR
VERSION:2.0
PRODID:-//Cub Scout Pack 472 Tempe - ECPv6.15.19//NONSGML v1.0//EN
CALSCALE:GREGORIAN
METHOD:PUBLISH
X-WR-CALNAME:Cub Scout Pack 472 Tempe
X-ORIGINAL-URL:https://cspack472tempe.com
X-WR-CALDESC:Events for Cub Scout Pack 472 Tempe
REFRESH-INTERVAL;VALUE=DURATION:PT1H
X-Robots-Tag:noindex
X-PUBLISHED-TTL:PT1H
BEGIN:VTIMEZONE
TZID:America/Phoenix
BEGIN:STANDARD
TZOFFSETFROM:-0700
TZOFFSETTO:-0700
TZNAME:MST
DTSTART:20220101T000000
END:STANDARD
END:VTIMEZONE
BEGIN:VEVENT
DTSTART;TZID=America/Phoenix:20240323T130000
DTEND;TZID=America/Phoenix:20240323T160000
DTSTAMP:20260421T063925
CREATED:20230517T164414Z
LAST-MODIFIED:20230517T164414Z
UID:1543-1711198800-1711209600@cspack472tempe.com
SUMMARY:Archery Open Shoot
DESCRIPTION:This event is available through the Grand Canyon Council. Please visit the “Website” link below for more information and registration.
URL:https://cspack472tempe.com/event/archery-open-shoot-20240323/
LOCATION:Heard Scout Pueblo\, 1901 E Dobbins Rd\,\, AZ\, Phoenix\, AZ\, 85042\, United States
CATEGORIES:GC Council Events
ATTACH;FMTTYPE=image/png:https://eadn-wc04-8807523.nxedge.io/wp-content/uploads/2022/07/archery-merit-badge.png
END:VEVENT
BEGIN:VEVENT
DTSTART;TZID=America/Phoenix:20240316T130000
DTEND;TZID=America/Phoenix:20240316T160000
DTSTAMP:20260421T063925
CREATED:20230517T165651Z
LAST-MODIFIED:20230517T165651Z
UID:1554-1710594000-1710604800@cspack472tempe.com
SUMMARY:Open Shoot Rifle / BB
DESCRIPTION:This event is available through the Grand Canyon Council. Please visit the “Website” link below for more information and registration.
URL:https://cspack472tempe.com/event/open-shoot-rifle-bb-20240316/
LOCATION:Heard Scout Pueblo\, 1901 E Dobbins Rd\,\, AZ\, Phoenix\, AZ\, 85042\, United States
CATEGORIES:GC Council Events
ATTACH;FMTTYPE=image/png:https://eadn-wc04-8807523.nxedge.io/wp-content/uploads/2022/07/shooting-merit-badge.png
END:VEVENT
BEGIN:VEVENT
DTSTART;TZID=America/Phoenix:20240224T130000
DTEND;TZID=America/Phoenix:20240224T160000
DTSTAMP:20260421T063925
CREATED:20230517T164213Z
LAST-MODIFIED:20230517T164213Z
UID:1540-1708779600-1708790400@cspack472tempe.com
SUMMARY:Archery Open Shoot
DESCRIPTION:This event is available through the Grand Canyon Council. Please visit the “Website” link below for more information and registration.
URL:https://cspack472tempe.com/event/archery-open-shoot-20240224/
LOCATION:Heard Scout Pueblo\, 1901 E Dobbins Rd\,\, AZ\, Phoenix\, AZ\, 85042\, United States
CATEGORIES:GC Council Events
ATTACH;FMTTYPE=image/png:https://eadn-wc04-8807523.nxedge.io/wp-content/uploads/2022/07/archery-merit-badge.png
END:VEVENT
BEGIN:VEVENT
DTSTART;TZID=America/Phoenix:20240217T130000
DTEND;TZID=America/Phoenix:20240217T160000
DTSTAMP:20260421T063925
CREATED:20220725T044028Z
LAST-MODIFIED:20230517T165511Z
UID:1213-1708174800-1708185600@cspack472tempe.com
SUMMARY:Open Shoot Rifle / BB
DESCRIPTION:This event is available through the Grand Canyon Council. Please visit the “Website” link below for more information and registration.
URL:https://cspack472tempe.com/event/open-shoot-rifle-bb-20240217/
LOCATION:Heard Scout Pueblo\, 1901 E Dobbins Rd\,\, AZ\, Phoenix\, AZ\, 85042\, United States
CATEGORIES:GC Council Events
ATTACH;FMTTYPE=image/png:https://eadn-wc04-8807523.nxedge.io/wp-content/uploads/2022/07/shooting-merit-badge.png
END:VEVENT
BEGIN:VEVENT
DTSTART;TZID=America/Phoenix:20240127T130000
DTEND;TZID=America/Phoenix:20240127T160000
DTSTAMP:20260421T063925
CREATED:20230517T164018Z
LAST-MODIFIED:20230517T164018Z
UID:1538-1706360400-1706371200@cspack472tempe.com
SUMMARY:Archery Open Shoot
DESCRIPTION:This event is available through the Grand Canyon Council. Please visit the “Website” link below for more information and registration.
URL:https://cspack472tempe.com/event/archery-open-shoot-20240127/
LOCATION:Heard Scout Pueblo\, 1901 E Dobbins Rd\,\, AZ\, Phoenix\, AZ\, 85042\, United States
CATEGORIES:GC Council Events
ATTACH;FMTTYPE=image/png:https://eadn-wc04-8807523.nxedge.io/wp-content/uploads/2022/07/archery-merit-badge.png
END:VEVENT
BEGIN:VEVENT
DTSTART;TZID=America/Phoenix:20240120T130000
DTEND;TZID=America/Phoenix:20240120T160000
DTSTAMP:20260421T063925
CREATED:20220725T041517Z
LAST-MODIFIED:20230517T165320Z
UID:1191-1705755600-1705766400@cspack472tempe.com
SUMMARY:Open Shoot Rifle / BB
DESCRIPTION:This event is available through the Grand Canyon Council. Please visit the “Website” link below for more information and registration.
URL:https://cspack472tempe.com/event/open-shoot-rifle-bb-20240120/
LOCATION:Heard Scout Pueblo\, 1901 E Dobbins Rd\,\, AZ\, Phoenix\, AZ\, 85042\, United States
CATEGORIES:GC Council Events
ATTACH;FMTTYPE=image/png:https://eadn-wc04-8807523.nxedge.io/wp-content/uploads/2022/07/shooting-merit-badge.png
END:VEVENT
BEGIN:VEVENT
DTSTART;TZID=America/Phoenix:20231230T130000
DTEND;TZID=America/Phoenix:20231230T160000
DTSTAMP:20260421T063925
CREATED:20220725T044159Z
LAST-MODIFIED:20230517T163817Z
UID:1216-1703941200-1703952000@cspack472tempe.com
SUMMARY:Archery Open Shoot
DESCRIPTION:This event is available through the Grand Canyon Council. Please visit the “Website” link below for more information and registration.
URL:https://cspack472tempe.com/event/archery-open-shoot-20231230/
LOCATION:Heard Scout Pueblo\, 1901 E Dobbins Rd\,\, AZ\, Phoenix\, AZ\, 85042\, United States
CATEGORIES:GC Council Events
ATTACH;FMTTYPE=image/png:https://eadn-wc04-8807523.nxedge.io/wp-content/uploads/2022/07/archery-merit-badge.png
END:VEVENT
BEGIN:VEVENT
DTSTART;TZID=America/Phoenix:20231209T100000
DTEND;TZID=America/Phoenix:20231209T140000
DTSTAMP:20260421T063925
CREATED:20230517T170233Z
LAST-MODIFIED:20230517T170233Z
UID:1561-1702116000-1702130400@cspack472tempe.com
SUMMARY:Cub Scout Holiday at the Heard
DESCRIPTION:This event is available through the Grand Canyon Council. Please visit the “Website” link below for more information and registration.
URL:https://cspack472tempe.com/event/holiday-at-the-heard-2023/
LOCATION:Heard Scout Pueblo\, 1901 E Dobbins Rd\,\, AZ\, Phoenix\, AZ\, 85042\, United States
CATEGORIES:GC Council Events
END:VEVENT
BEGIN:VEVENT
DTSTART;TZID=America/Phoenix:20231028T130000
DTEND;TZID=America/Phoenix:20231028T160000
DTSTAMP:20260421T063925
CREATED:20220725T042846Z
LAST-MODIFIED:20230517T163710Z
UID:1204-1698498000-1698508800@cspack472tempe.com
SUMMARY:Archery Open Shoot
DESCRIPTION:This event is available through the Grand Canyon Council. Please visit the “Website” link below for more information and registration.
URL:https://cspack472tempe.com/event/archery-open-shoot-20231028/
LOCATION:Heard Scout Pueblo\, 1901 E Dobbins Rd\,\, AZ\, Phoenix\, AZ\, 85042\, United States
CATEGORIES:GC Council Events
ATTACH;FMTTYPE=image/png:https://eadn-wc04-8807523.nxedge.io/wp-content/uploads/2022/07/archery-merit-badge.png
END:VEVENT
BEGIN:VEVENT
DTSTART;TZID=America/Phoenix:20230923T130000
DTEND;TZID=America/Phoenix:20230923T160000
DTSTAMP:20260421T063925
CREATED:20220725T042008Z
LAST-MODIFIED:20230517T163544Z
UID:1193-1695474000-1695484800@cspack472tempe.com
SUMMARY:Archery Open Shoot
DESCRIPTION:This event is available through the Grand Canyon Council. Please visit the “Website” link below for more information and registration.
URL:https://cspack472tempe.com/event/archery-open-shoot-20230923/
LOCATION:Heard Scout Pueblo\, 1901 E Dobbins Rd\,\, AZ\, Phoenix\, AZ\, 85042\, United States
CATEGORIES:GC Council Events
ATTACH;FMTTYPE=image/png:https://eadn-wc04-8807523.nxedge.io/wp-content/uploads/2022/07/archery-merit-badge.png
END:VEVENT
BEGIN:VEVENT
DTSTART;TZID=America/Phoenix:20230325T083000
DTEND;TZID=America/Phoenix:20230325T160000
DTSTAMP:20260421T063925
CREATED:20230220T141729Z
LAST-MODIFIED:20230220T141840Z
UID:1507-1679733000-1679760000@cspack472tempe.com
SUMMARY:District Cub Scout Activity Day
DESCRIPTION:This FREE event is available through the Grand Canyon Council. Please visit the “Website” link below for more information and registration (registration is required). \nThis activity is open to all Cub Scouts and also any boys or girls in K-5 who want to check Scouting out. It will be a day filled with Scouting fun! Crafts\, STEM\, Yo-Yos\, raingutter racing and a host of just fun activities for Scouts and Scouters to enjoy. They are expecting first responders\, demonstrations and a host of many activities to engage the minds of all the Scouts who attend. \nAlso included in the day’s activities will be the Gila River District Pinewood Derby\, open to all Cubs with open classes for siblings and older family members! \nDownload the Flyer
URL:https://cspack472tempe.com/event/activity-day-2023/
LOCATION:Mountain View Lutheran Church\, 11002 S 48th St\, Phoenix\, 85044
CATEGORIES:GC Council Events
ATTACH;FMTTYPE=image/jpeg:https://eadn-wc04-8807523.nxedge.io/wp-content/uploads/2023/02/MD_image_16765597260_9502.jpeg
END:VEVENT
END:VCALENDAR